BEGIN:VCALENDAR
VERSION:2.0
PRODID:-//la retahíla - ECPv6.15.20//NONSGML v1.0//EN
CALSCALE:GREGORIAN
METHOD:PUBLISH
X-ORIGINAL-URL:https://laretahila.org
X-WR-CALDESC:Eventos para la retahíla
REFRESH-INTERVAL;VALUE=DURATION:PT1H
X-Robots-Tag:noindex
X-PUBLISHED-TTL:PT1H
BEGIN:VTIMEZONE
TZID:Europe/Madrid
BEGIN:DAYLIGHT
TZOFFSETFROM:+0100
TZOFFSETTO:+0200
TZNAME:CEST
DTSTART:20240331T010000
END:DAYLIGHT
BEGIN:STANDARD
TZOFFSETFROM:+0200
TZOFFSETTO:+0100
TZNAME:CET
DTSTART:20241027T010000
END:STANDARD
BEGIN:DAYLIGHT
TZOFFSETFROM:+0100
TZOFFSETTO:+0200
TZNAME:CEST
DTSTART:20250330T010000
END:DAYLIGHT
BEGIN:STANDARD
TZOFFSETFROM:+0200
TZOFFSETTO:+0100
TZNAME:CET
DTSTART:20251026T010000
END:STANDARD
BEGIN:DAYLIGHT
TZOFFSETFROM:+0100
TZOFFSETTO:+0200
TZNAME:CEST
DTSTART:20260329T010000
END:DAYLIGHT
BEGIN:STANDARD
TZOFFSETFROM:+0200
TZOFFSETTO:+0100
TZNAME:CET
DTSTART:20261025T010000
END:STANDARD
END:VTIMEZONE
BEGIN:VEVENT
DTSTART;TZID=Europe/Madrid:20251204T200000
DTEND;TZID=Europe/Madrid:20251204T210000
DTSTAMP:20260419T143345
CREATED:20251201T131840Z
LAST-MODIFIED:20251203T121819Z
UID:4512-1764878400-1764882000@laretahila.org
SUMMARY:Encuentro con Nuria Alabao: guerras de género y manosfera antifeminista
DESCRIPTION:Lanónima acoge este encuentro con la periodista e investigadora Nuria Alabao\, que presenta Las guerras de género.\nEl jueves 4 de diciembre a las 20:00 h\, Lanónima acoge un encuentro con la periodista e investigadora Nuria Alabao\, a partir de sus libros Las guerras de género (Katakrak\, 2025) e Incels\, gymbros y otras especies antifeministas (Ctxt\, 2025). La sesión abordará cómo las derechas radicales están articulando sus guerras culturales: desde los ataques a los derechos reproductivos en Europa hasta la retórica antifeminista en España\, sustentada en pánicos morales\, fake news y narrativas que buscan fortalecer jerarquías de poder en contextos de crisis. \nAsimismo\, Alabao profundizará en la manosfera\, ese conjunto de comunidades digitales donde se reproducen discursos antifeministas —del victimismo al odio misógino—\, analizando por qué interpelan a tantos jóvenes y qué revela su auge sobre la precariedad\, la soledad y el clima emocional de nuestro tiempo. \nUna conversación imprescindible para comprender los desafíos feministas actuales desde un enfoque crítico y riguroso.
URL:https://laretahila.org/event/encuentro-con-nuria-alabao-guerras-de-genero-y-manosfera-antifeminista/
LOCATION:Lanónima\, C/ Pasaje Mallol 16\, Sevilla\, Sevilla\, 41003
CATEGORIES:Activismo,Presentación Libro
ATTACH;FMTTYPE=image/png:https://laretahila.org/wp-content/uploads/Presentacionlibro_ElTaller_Sevilla_LaRetahila-1.png
ORGANIZER;CN="Lan%C3%B3nima":MAILTO:lanonima@riseup.net
END:VEVENT
BEGIN:VEVENT
DTSTART;TZID=Europe/Madrid:20251218T100000
DTEND;TZID=Europe/Madrid:20251218T170000
DTSTAMP:20260419T143345
CREATED:20251212T091239Z
LAST-MODIFIED:20251214T131455Z
UID:4691-1766052000-1766077200@laretahila.org
SUMMARY:Exposición: Ellas en la ciudad\, memoria y cuidados en los barrios de Sevilla
DESCRIPTION:Una muestra sobre las mujeres que sostuvieron la vida en los barrios periféricos sevillanos.\nLa exposición “Ellas en la ciudad” llega al CICUS como un proyecto que recupera la memoria urbana y social de Sevilla desde una perspectiva feminista. La muestra reúne materiales procesuales e inéditos vinculados al documental dirigido por la arquitecta y urbanista Reyes Gallegos\, y pone el foco en la generación de mujeres que poblaron y dieron vida a los barrios periféricos construidos en la década de los años setenta. \nA través de testimonios directos\, la exposición visibiliza cómo estas mujeres se convirtieron en el verdadero sostén de sus comunidades\, asumiendo tareas de cuidados\, organización vecinal y lucha social en contextos marcados por la falta de planificación urbana y recursos públicos. Sus experiencias\, a menudo invisibilizadas\, revelan una historia colectiva imprescindible para comprender la transformación social y urbana de la ciudad en los últimos cincuenta años. \nLa exposición se inaugura el próximo jueves 18 de diciembre\, hasta el 20 de febrero de 2026.
URL:https://laretahila.org/event/exposicion-ellas-en-la-ciudad-memoria-y-cuidados-en-los-barrios-de-sevilla/
LOCATION:CICUS\, C/ Madre de Dios 1\, Sevilla\, Sevilla\, 41004\, España
CATEGORIES:Activismo,Cine,Exposición
ATTACH;FMTTYPE=image/png:https://laretahila.org/wp-content/uploads/Exposicion_Ellasenlaciudad_Sevilla_LaRetahila.png
END:VEVENT
BEGIN:VEVENT
DTSTART;TZID=Europe/Madrid:20251218T163000
DTEND;TZID=Europe/Madrid:20251218T220000
DTSTAMP:20260419T143345
CREATED:20251216T125851Z
LAST-MODIFIED:20251216T125851Z
UID:4708-1766075400-1766095200@laretahila.org
SUMMARY:Salud y género\, ciudad y cuerpo
DESCRIPTION:Sesión sobre cuidados\, urbanismo y cuerpos desde una mirada feminista\nEl CICUS acoge el Capítulo 02. Salud y género\, ciudad y cuerpo\, una jornada que pone en el centro la relación entre salud física y mental\, género\, urbanismo y cuidados\, desde una perspectiva feminista\, interseccional e intergeneracional. \nA lo largo de la sesión\, que se celebrar el jueves 18 de diciembre de 2025\, se abordan preguntas clave: ¿Qué marcas deja la ciudad en los cuerpos?\, ¿Qué violencias atraviesan especialmente a las mujeres en el contexto urbano?\, ¿Qué otros cuerpos —invisibilizados— sostienen la vida en la ciudad? El encuentro reivindica el valor de lo intergeneracional como forma de cuidado\, transmisión de saberes y memoria colectiva. \nLa jornada comienza con la inauguración de la exposición Ellas en la ciudad\, dirigida por la arquitecta y urbanista Reyes Gallegos\, una muestra que reúne materiales inéditos y procesuales vinculados al documental del mismo nombre. A continuación\, la antropóloga social Soledad Castillero ofrecerá una charla\, La ciudad que cuidan ellas: vida\, bordes y ruralidades urbanas\, una lectura crítica de los procesos de urbanización desde el feminismo y el análisis territorial\, poniendo el foco en las mujeres como gestoras de la vida cotidiana y comunitaria. \nLa sesión culmina con la acción vivencial Ellas son la ciudad: salud\, género y cuidados en el contexto urbano\, dirigida por Mar Romero Alba\, que combina reflexión feminista\, dinámicas de movimiento y canto colectivo para nombrar el malestar acumulado en los cuerpos que sostienen la ciudad y construir estrategias de sororidad\, resistencia y transformación. \nComo actividad paralela\, se desarrolla el taller Nuevas cartografías visibles: ciudad\, periferia\, género y cuerpos\, dirigido por Reyes Gallegos junto a protagonistas del documental\, y orientado a alumnado de la Escuela de Arquitectura. A través del diálogo intergeneracional y la cartografía urbana feminista\, el taller busca recuperar memorias silenciadas de los barrios periféricos y construir relatos colectivos sobre pasado\, presente y futuro.
URL:https://laretahila.org/event/salud-y-genero-ciudad-y-cuerpo/
LOCATION:CICUS\, C/ Madre de Dios 1\, Sevilla\, Sevilla\, 41004\, España
CATEGORIES:Activismo,Jornadas,Memoria
ATTACH;FMTTYPE=image/png:https://laretahila.org/wp-content/uploads/Jornadas_ellasenlaciudad_Sevilla_LaRetahila.png
END:VEVENT
BEGIN:VEVENT
DTSTART;TZID=Europe/Madrid:20251218T173000
DTEND;TZID=Europe/Madrid:20251218T193000
DTSTAMP:20260419T143345
CREATED:20251211T122055Z
LAST-MODIFIED:20251213T123320Z
UID:4560-1766079000-1766086200@laretahila.org
SUMMARY:Cuerpos visibles\, diversidad corporal y gordofobia | Adhara
DESCRIPTION:Cuerpos visibles\, un taller que propone un espacio seguro\, amoroso y colectivo para reflexionar sobre la diversidad corporal\nLa Fundación Adhara impulsa Cuerpos visibles\, un taller que propone un espacio seguro\, amoroso y colectivo para reflexionar sobre la diversidad corporal y cómo la gordofobia atraviesa nuestros cuerpos\, relaciones y comunidades\, especialmente dentro del colectivo LGTBIQ+. \nEl encuentro se celebra el 18 de diciembre\, de 17:30 a 19:30 horas\, en el Centro Cívico Hogar San Fernando\, y está concebido como un espacio para pensarnos\, escucharnos y transformar juntas/os/es la forma en que habitamos y miramos los cuerpos. A través del diálogo y el trabajo grupal\, el taller invita a identificar los estereotipos corporales\, desmontar discursos discriminatorios y fortalecer la autoestima\, el autocuidado y las redes de apoyo. \nLa actividad se enmarca dentro del proyecto La Voz de una Comunidad\, una iniciativa de la Fundación Adhara que cuenta con la colaboración de la actriz Manuela Alonso y Laura González\, psicóloga y sexóloga\, y con la financiación del Ayuntamiento de Sevilla.
URL:https://laretahila.org/event/cuerpos-visibles-diversidad-corporal-y-gordofobia-adhara/
LOCATION:Centro cívico Hogar San Fernando\, C/ Don Fadrique 59\, Sevilla\, 41009
CATEGORIES:Activismo,Encuentro,Taller
ATTACH;FMTTYPE=image/png:https://laretahila.org/wp-content/uploads/Cuerposvisibles_Adhara_LaRetahila.png
END:VEVENT
BEGIN:VEVENT
DTSTART;TZID=Europe/Madrid:20251219T193000
DTEND;TZID=Europe/Madrid:20251219T220000
DTSTAMP:20260419T143345
CREATED:20251216T131944Z
LAST-MODIFIED:20251216T131944Z
UID:4711-1766172600-1766181600@laretahila.org
SUMMARY:Enredar la memoria: genealogía del feminismo sevillano
DESCRIPTION:Proyección documental sobre el movimiento feminista en Sevilla (años 70 y 80) \nVuelve Enredar la memoria con una mini serie documental que recupera la historia del movimiento feminista en Sevilla durante los años 70 y 80\, poniendo en el centro las luchas\, los cuerpos y las voces que abrieron camino en un contexto de represión\, transición política y conquista de derechos. \nEl encuentro se celebra el 19 de diciembre a las 19:30 horas en La Insumisa\, y propone la proyección de tres piezas documentales breves que recorren hitos fundamentales del feminismo sevillano en la Transición: el nacimiento y la persecución de La Clínica de los Naranjos\, referente en la defensa del derecho al aborto; el movimiento lesbiano y la lucha por los derechos del colectivo LGTBI; y las primeras manifestaciones del 8 de marzo\, con sus reivindicaciones y estrategias de movilización. \nLa proyección contará con la presencia de algunas de las protagonistas\, generando un espacio de diálogo colectivo para tejer genealogías feministas\, compartir memoria viva y conectar las luchas del pasado con los retos del presente. Una invitación a recordar\, nombrar y sostener la memoria como herramienta política. \n\n\nEnredar la memoria es un proyecto impulsado por La Digitalizadora de la Memoria Colectiva y La Luciérnaga Comunicación\, con el apoyo de Intermedia Producciones\, la Asociación de Archiveros de Andalucía y FESABID.
URL:https://laretahila.org/event/enredar-la-memoria-genealogia-del-feminismo-sevillano/
LOCATION:La Insumisa\, C/ Miguel Cid 45\, Sevilla\, Sevilla\, 41002\, Spain
CATEGORIES:Activismo,Memoria,Proyección
ATTACH;FMTTYPE=image/png:https://laretahila.org/wp-content/uploads/MujeresMemoria_Proyeccion_Sevilla_LaRetahila.png
END:VEVENT
END:VCALENDAR