BEGIN:VCALENDAR
VERSION:2.0
PRODID:-//la retahíla - ECPv6.15.20//NONSGML v1.0//EN
CALSCALE:GREGORIAN
METHOD:PUBLISH
X-ORIGINAL-URL:https://laretahila.org
X-WR-CALDESC:Eventos para la retahíla
REFRESH-INTERVAL;VALUE=DURATION:PT1H
X-Robots-Tag:noindex
X-PUBLISHED-TTL:PT1H
BEGIN:VTIMEZONE
TZID:Europe/Madrid
BEGIN:DAYLIGHT
TZOFFSETFROM:+0100
TZOFFSETTO:+0200
TZNAME:CEST
DTSTART:20240331T010000
END:DAYLIGHT
BEGIN:STANDARD
TZOFFSETFROM:+0200
TZOFFSETTO:+0100
TZNAME:CET
DTSTART:20241027T010000
END:STANDARD
BEGIN:DAYLIGHT
TZOFFSETFROM:+0100
TZOFFSETTO:+0200
TZNAME:CEST
DTSTART:20250330T010000
END:DAYLIGHT
BEGIN:STANDARD
TZOFFSETFROM:+0200
TZOFFSETTO:+0100
TZNAME:CET
DTSTART:20251026T010000
END:STANDARD
BEGIN:DAYLIGHT
TZOFFSETFROM:+0100
TZOFFSETTO:+0200
TZNAME:CEST
DTSTART:20260329T010000
END:DAYLIGHT
BEGIN:STANDARD
TZOFFSETFROM:+0200
TZOFFSETTO:+0100
TZNAME:CET
DTSTART:20261025T010000
END:STANDARD
END:VTIMEZONE
BEGIN:VEVENT
DTSTART;TZID=Europe/Madrid:20250911T200000
DTEND;TZID=Europe/Madrid:20250911T223000
DTSTAMP:20260419T201634
CREATED:20250903T104608Z
LAST-MODIFIED:20251214T055429Z
UID:4662-1757620800-1757629800@laretahila.org
SUMMARY:Proyección “Ellas en la ciudad” en el COAS Sevilla
DESCRIPTION:Un coloquio con la directora Reyes Gallegos y la escritora Rosario Izquierdo sobre mujeres y periferias urbanas.\nEl COAS Sevilla acoge la proyección del documental “Ellas en la ciudad”\, dirigido por Reyes Gallegos\, doctora arquitecta\, urbanista y paisajista. El documental narra la historia de las primeras pobladoras de los barrios periféricos de Sevilla\, mostrando cómo han sido protagonistas de luchas\, cuidados y transformaciones urbanas a pesar de la marginalización de sus entornos. \nTras la proyección\, se realiza un coloquio con la directora y la socióloga y escritora Rosario Izquierdo\, autora de Diario de campo\, El hijo zurdo y Pasión nails\, donde se profundiza en género\, urbanismo\, educación y política desde la perspectiva de las mujeres en la ciudad. La actividad es libre hasta completar aforo\, fomentando el acceso a la cultura y la reflexión feminista sobre el espacio urbano.
URL:https://laretahila.org/event/proyeccion-ellas-en-la-ciudad-en-el-coas-sevilla/
LOCATION:COAS\, Plaza Cristo de Burgos\, 35\, Sevilla\, 41003
CATEGORIES:Activismo,Proyección
ATTACH;FMTTYPE=image/png:https://laretahila.org/wp-content/uploads/ellasenlaciudad_Proyeccion_Sevilla_LaRetahila.png
ORGANIZER;CN="COAS":MAILTO:coasevilla@coasevilla.org
END:VEVENT
BEGIN:VEVENT
DTSTART;TZID=Europe/Madrid:20250911T210000
DTEND;TZID=Europe/Madrid:20250911T230000
DTSTAMP:20260419T201634
CREATED:20250907T111441Z
LAST-MODIFIED:20251214T122122Z
UID:4674-1757624400-1757631600@laretahila.org
SUMMARY:Jornada de cortos y largometrajes de animación palestina
DESCRIPTION:Relatos animados desde Palestina y la diáspora\, con voces de mujeres cineastas.\nEl Cine de Verano: Palestina animada llega a Sevilla como una proyección solidaria de cine de animación palestino\, impulsada por cineastas\, artistas y activistas de Palestina y la diáspora. El programa reúne cortometrajes y un largometraje que narran memoria\, despojo\, resistencia y vida cotidiana desde una mirada sensible y profundamente política. \nLa selección incluye obras dirigidas por mujeres palestinas\, como Hanen Koraz\, Samira Badran y Dona Durr\, cuyas piezas abordan el exilio\, la infancia\, la memoria de la tierra y la experiencia del desplazamiento forzado a través del lenguaje de la animación. Estas creaciones sitúan el arte como herramienta de denuncia\, cuidado y transmisión de la memoria colectiva. \nEl proyecto Palestina Animada se estrenó en marzo de 2025 y ha recorrido espacios culturales en Cantabria\, Oslo y Madrid. Las proyecciones cuentan con la autorización expresa de sus autoras y autores y se presentan como un acto de solidaridad y apoyo al pueblo palestino.
URL:https://laretahila.org/event/jornada-de-cortos-y-largometrajes-de-animacion-palestina/
LOCATION:Huerto del Rey Moro\, C/Enladrillada\, 36\, Sevilla
CATEGORIES:Activismo,Cultura,Proyección
ATTACH;FMTTYPE=image/png:https://laretahila.org/wp-content/uploads/Proyeccion_CinePalestina_Sevilla_LaRetahila.png
END:VEVENT
END:VCALENDAR