BEGIN:VCALENDAR
VERSION:2.0
PRODID:-//la retahíla - ECPv6.15.20//NONSGML v1.0//EN
CALSCALE:GREGORIAN
METHOD:PUBLISH
X-WR-CALNAME:la retahíla
X-ORIGINAL-URL:https://laretahila.org
X-WR-CALDESC:Eventos para la retahíla
REFRESH-INTERVAL;VALUE=DURATION:PT1H
X-Robots-Tag:noindex
X-PUBLISHED-TTL:PT1H
BEGIN:VTIMEZONE
TZID:Europe/Madrid
BEGIN:DAYLIGHT
TZOFFSETFROM:+0100
TZOFFSETTO:+0200
TZNAME:CEST
DTSTART:20240331T010000
END:DAYLIGHT
BEGIN:STANDARD
TZOFFSETFROM:+0200
TZOFFSETTO:+0100
TZNAME:CET
DTSTART:20241027T010000
END:STANDARD
BEGIN:DAYLIGHT
TZOFFSETFROM:+0100
TZOFFSETTO:+0200
TZNAME:CEST
DTSTART:20250330T010000
END:DAYLIGHT
BEGIN:STANDARD
TZOFFSETFROM:+0200
TZOFFSETTO:+0100
TZNAME:CET
DTSTART:20251026T010000
END:STANDARD
BEGIN:DAYLIGHT
TZOFFSETFROM:+0100
TZOFFSETTO:+0200
TZNAME:CEST
DTSTART:20260329T010000
END:DAYLIGHT
BEGIN:STANDARD
TZOFFSETFROM:+0200
TZOFFSETTO:+0100
TZNAME:CET
DTSTART:20261025T010000
END:STANDARD
END:VTIMEZONE
BEGIN:VEVENT
DTSTART;TZID=Europe/Madrid:20250914T160000
DTEND;TZID=Europe/Madrid:20250914T200000
DTSTAMP:20260419T201506
CREATED:20250911T105752Z
LAST-MODIFIED:20251214T120544Z
UID:4671-1757865600-1757880000@laretahila.org
SUMMARY:Encuentro de la Escuela de Activismo para mujeres migrantes trabajadoras del hogar
DESCRIPTION:Un espacio colectivo para fortalecer redes\, organización y liderazgo comunitario.\nEl proyecto Grupo Motor continúa desarrollándose como un espacio de encuentro y fortalecimiento colectivo dentro de la Escuela de Activismo\, dirigido a mujeres migrantes trabajadoras del hogar. Este encuentro se celebra en la Casa Grande del Pumarejo\, consolidándose como un lugar de referencia para compartir saberes\, experiencias y estrategias de organización desde una perspectiva feminista\, antirracista y de cuidados. \nLa actividad está abierta a todas las mujeres migrantes que trabajan en el empleo del hogar y los cuidados\, y propone un tiempo para aprender juntas\, reforzar vínculos y construir herramientas colectivas que impulsen la participación\, el liderazgo y la defensa de derechos. El Grupo Motor se plantea como un espacio vivo\, donde la voz y la experiencia de las participantes son el motor del cambio social.
URL:https://laretahila.org/event/encuentro-de-la-escuela-de-activismo-para-mujeres-migrantes-trabajadoras-del-hogar/
LOCATION:Casa Grande del Pumarejo\, Plaza del Pumarejo\, 3\, Sevilla\, Sevilla\, 41003\, España
CATEGORIES:Activismo,Cuidados,Encuentro
ATTACH;FMTTYPE=image/png:https://laretahila.org/wp-content/uploads/EscuelaActivismo_AsocTrabajadorasHogar_Sevilla_LaRetahila.png
ORGANIZER;CN="Asociaci%C3%B3n de trabajadoras y trabajadores del hogar de Sevilla":MAILTO:empleadasdelhogarsevilla@gmail.com
END:VEVENT
END:VCALENDAR