BEGIN:VCALENDAR
VERSION:2.0
PRODID:-//la retahíla - ECPv6.15.20//NONSGML v1.0//EN
CALSCALE:GREGORIAN
METHOD:PUBLISH
X-ORIGINAL-URL:https://laretahila.org
X-WR-CALDESC:Eventos para la retahíla
REFRESH-INTERVAL;VALUE=DURATION:PT1H
X-Robots-Tag:noindex
X-PUBLISHED-TTL:PT1H
BEGIN:VTIMEZONE
TZID:Europe/Madrid
BEGIN:DAYLIGHT
TZOFFSETFROM:+0100
TZOFFSETTO:+0200
TZNAME:CEST
DTSTART:20240331T010000
END:DAYLIGHT
BEGIN:STANDARD
TZOFFSETFROM:+0200
TZOFFSETTO:+0100
TZNAME:CET
DTSTART:20241027T010000
END:STANDARD
BEGIN:DAYLIGHT
TZOFFSETFROM:+0100
TZOFFSETTO:+0200
TZNAME:CEST
DTSTART:20250330T010000
END:DAYLIGHT
BEGIN:STANDARD
TZOFFSETFROM:+0200
TZOFFSETTO:+0100
TZNAME:CET
DTSTART:20251026T010000
END:STANDARD
BEGIN:DAYLIGHT
TZOFFSETFROM:+0100
TZOFFSETTO:+0200
TZNAME:CEST
DTSTART:20260329T010000
END:DAYLIGHT
BEGIN:STANDARD
TZOFFSETFROM:+0200
TZOFFSETTO:+0100
TZNAME:CET
DTSTART:20261025T010000
END:STANDARD
END:VTIMEZONE
BEGIN:VEVENT
DTSTART;TZID=Europe/Madrid:20250926T170000
DTEND;TZID=Europe/Madrid:20250926T203000
DTSTAMP:20260419T201634
CREATED:20250926T075028Z
LAST-MODIFIED:20251214T050105Z
UID:4647-1758906000-1758918600@laretahila.org
SUMMARY:Isabel Zendal. Una enfermera en misión internacional
DESCRIPTION:En el marco de la Noche Europea de las Investigadoras\, las facultades ponen en marcha actividades que visibilicen el trabajo de la mujer en distintas áreas del conocimiento\, poniendo en valor su papel. \nLa exposición Isabel Zendal. Una enfermera en misión internacional\, muestra la importancia de las campañas de vacunación y el papel de la mujer en la ciencia a lo largo de la historia. La Real Expedición Filantrópica de la Vacuna partió del puerto de La Coruña con destino a América en 1803 con el objetivo de inocular la vacuna de la viruela al mayor número de personas posible. \nEn la expedición jugó un importante papel Isabel Zendal\, considerada por la Organización Mundial de la Salud como la primera enfermera en misión internacional\, de ahí este homenaje en el Patio de la Fundación Valentín de Madariaga y Oya\, que podrá verse hoy 26 de septiembre.
URL:https://laretahila.org/event/isabel-zendal-una-enfermera-en-mision-internacional/
LOCATION:Patio de la Fundación Valentín de Madariaga y Oya\, Paseo de las Delicias\, 7\, Sevilla\, 41013\, Spain
CATEGORIES:Activismo,Exposición
ATTACH;FMTTYPE=image/png:https://laretahila.org/wp-content/uploads/NocheInvestigadoras_Sevilla_LaRetahila.png
END:VEVENT
END:VCALENDAR