BEGIN:VCALENDAR
VERSION:2.0
PRODID:-//la retahíla - ECPv6.15.20//NONSGML v1.0//EN
CALSCALE:GREGORIAN
METHOD:PUBLISH
X-WR-CALNAME:la retahíla
X-ORIGINAL-URL:https://laretahila.org
X-WR-CALDESC:Eventos para la retahíla
REFRESH-INTERVAL;VALUE=DURATION:PT1H
X-Robots-Tag:noindex
X-PUBLISHED-TTL:PT1H
BEGIN:VTIMEZONE
TZID:Europe/Madrid
BEGIN:DAYLIGHT
TZOFFSETFROM:+0100
TZOFFSETTO:+0200
TZNAME:CEST
DTSTART:20240331T010000
END:DAYLIGHT
BEGIN:STANDARD
TZOFFSETFROM:+0200
TZOFFSETTO:+0100
TZNAME:CET
DTSTART:20241027T010000
END:STANDARD
BEGIN:DAYLIGHT
TZOFFSETFROM:+0100
TZOFFSETTO:+0200
TZNAME:CEST
DTSTART:20250330T010000
END:DAYLIGHT
BEGIN:STANDARD
TZOFFSETFROM:+0200
TZOFFSETTO:+0100
TZNAME:CET
DTSTART:20251026T010000
END:STANDARD
BEGIN:DAYLIGHT
TZOFFSETFROM:+0100
TZOFFSETTO:+0200
TZNAME:CEST
DTSTART:20260329T010000
END:DAYLIGHT
BEGIN:STANDARD
TZOFFSETFROM:+0200
TZOFFSETTO:+0100
TZNAME:CET
DTSTART:20261025T010000
END:STANDARD
END:VTIMEZONE
BEGIN:VEVENT
DTSTART;TZID=Europe/Madrid:20251002T083000
DTEND;TZID=Europe/Madrid:20251004T230000
DTSTAMP:20260419T184730
CREATED:20250903T114734Z
LAST-MODIFIED:20251214T025721Z
UID:4641-1759393800-1759618800@laretahila.org
SUMMARY:IX Congreso de Economía Feminista en Sevilla
DESCRIPTION:La temática central de este nuevo encuentro será «Las economías feministas ante el capitaloceno”.\nEl IX Congreso de Economía Feminista tendrá lugar entre el 2 y 4 de octubre de 2025 en la Universidad Pablo de Olavide de Sevilla\, bajo el lema “Las economías feministas ante el capitaloceno: análisis y alternativas”\, un marco que invita a cuestionar cómo el sistema capitalista global impacta de forma diferenciada a mujeres y comunidades en contextos urbanos y rurales. \nEste congreso bienal reúne más de 400 personas participantes\, entre investigadoras\, docentes\, activistas y organizaciones sociales feministas\, para compartir investigaciones\, experiencias y propuestas desde enfoques feministas críticos\, ecofeministas\, decoloniales y socialmente transformadores. \nEl programa combina plenarios\, mesas temáticas\, talleres y espacios abiertos de diálogo que abordan epistemologías feministas\, soberanía alimentaria\, economía social y solidaria\, y alianzas globales\, así como debates sobre estrategias frente a las crisis sociales y ambientales actuales. \nAdemás\, durante el congreso se celebrarán actividades de encuentro\, intercambio de saberes y celebraciones como el 20º aniversario de los Congresos de Economía Feminista\, fortaleciendo los vínculos entre el movimiento académico y el tejido feminista del Estado español.
URL:https://laretahila.org/event/ix-congreso-de-economia-feminista-en-sevilla/
LOCATION:Universidad Pablo de Olavide\, Ctra. de Utrera 1\, Sevilla\, Sevilla\, 41013\, Spain
CATEGORIES:Activismo,Jornadas,Taller
ATTACH;FMTTYPE=image/png:https://laretahila.org/wp-content/uploads/EconomiaFeminista_EncuentroUPO_Sevilla_LaRetahila.png
END:VEVENT
BEGIN:VEVENT
DTSTART;VALUE=DATE:20251003
DTEND;VALUE=DATE:20251006
DTSTAMP:20260419T184730
CREATED:20250922T122843Z
LAST-MODIFIED:20250922T123015Z
UID:4263-1759449600-1759708799@laretahila.org
SUMMARY:Jornadas feministas en Sevilla | 3\, 4 y 5 de octubre
DESCRIPTION:Alianzas Rebeldes pone en marcha las jornadas Feminismos para un mundo en disputa en Sevilla.\nAlianzas rebeldes pone en marcha tres días de reflexión sobre feminismo en los que reivindicar un pensamiento feminista definido por lo que «deseamos construir juntes»\, esto es: cambio social profundo hacia la igualdad\, la libertad y la justicia. \nComo ellas mismas indican en la página web que presenta las jornadas\, «Feminismos para un mundo en disputa es el título que da sentido a estas jornadas. Un guiño y una invitación a comprender\, imaginar\, transformar en este presente convulso. Frente a los fundamentalismos y las certezas absolutas\, defendemos el valor de la duda\, del diálogo y del pensamiento vivo. Porque solo así podremos imaginar y construir otros futuros posibles.» \nEl programa de la actividad puede leerse AQUÍ.
URL:https://laretahila.org/event/jornadas-feministas-en-sevilla-3-4-y-5-de-octubre/
LOCATION:Teatro Alameda\, C/ Crédito 13\, Sevilla\, Sevilla\, 41002\, Spain
CATEGORIES:Activismo,Conferencia,Cultura,Jornadas
ATTACH;FMTTYPE=image/png:https://laretahila.org/wp-content/uploads/Actividad_jornadasfeministas_Alianzasrebeldes_Sevilla.png
END:VEVENT
END:VCALENDAR