BEGIN:VCALENDAR
VERSION:2.0
PRODID:-//la retahíla - ECPv6.15.20//NONSGML v1.0//EN
CALSCALE:GREGORIAN
METHOD:PUBLISH
X-WR-CALNAME:la retahíla
X-ORIGINAL-URL:https://laretahila.org
X-WR-CALDESC:Eventos para la retahíla
REFRESH-INTERVAL;VALUE=DURATION:PT1H
X-Robots-Tag:noindex
X-PUBLISHED-TTL:PT1H
BEGIN:VTIMEZONE
TZID:Europe/Madrid
BEGIN:DAYLIGHT
TZOFFSETFROM:+0100
TZOFFSETTO:+0200
TZNAME:CEST
DTSTART:20240331T010000
END:DAYLIGHT
BEGIN:STANDARD
TZOFFSETFROM:+0200
TZOFFSETTO:+0100
TZNAME:CET
DTSTART:20241027T010000
END:STANDARD
BEGIN:DAYLIGHT
TZOFFSETFROM:+0100
TZOFFSETTO:+0200
TZNAME:CEST
DTSTART:20250330T010000
END:DAYLIGHT
BEGIN:STANDARD
TZOFFSETFROM:+0200
TZOFFSETTO:+0100
TZNAME:CET
DTSTART:20251026T010000
END:STANDARD
BEGIN:DAYLIGHT
TZOFFSETFROM:+0100
TZOFFSETTO:+0200
TZNAME:CEST
DTSTART:20260329T010000
END:DAYLIGHT
BEGIN:STANDARD
TZOFFSETFROM:+0200
TZOFFSETTO:+0100
TZNAME:CET
DTSTART:20261025T010000
END:STANDARD
END:VTIMEZONE
BEGIN:VEVENT
DTSTART;TZID=Europe/Madrid:20251204T200000
DTEND;TZID=Europe/Madrid:20251204T210000
DTSTAMP:20260419T160839
CREATED:20251201T131840Z
LAST-MODIFIED:20251203T121819Z
UID:4512-1764878400-1764882000@laretahila.org
SUMMARY:Encuentro con Nuria Alabao: guerras de género y manosfera antifeminista
DESCRIPTION:Lanónima acoge este encuentro con la periodista e investigadora Nuria Alabao\, que presenta Las guerras de género.\nEl jueves 4 de diciembre a las 20:00 h\, Lanónima acoge un encuentro con la periodista e investigadora Nuria Alabao\, a partir de sus libros Las guerras de género (Katakrak\, 2025) e Incels\, gymbros y otras especies antifeministas (Ctxt\, 2025). La sesión abordará cómo las derechas radicales están articulando sus guerras culturales: desde los ataques a los derechos reproductivos en Europa hasta la retórica antifeminista en España\, sustentada en pánicos morales\, fake news y narrativas que buscan fortalecer jerarquías de poder en contextos de crisis. \nAsimismo\, Alabao profundizará en la manosfera\, ese conjunto de comunidades digitales donde se reproducen discursos antifeministas —del victimismo al odio misógino—\, analizando por qué interpelan a tantos jóvenes y qué revela su auge sobre la precariedad\, la soledad y el clima emocional de nuestro tiempo. \nUna conversación imprescindible para comprender los desafíos feministas actuales desde un enfoque crítico y riguroso.
URL:https://laretahila.org/event/encuentro-con-nuria-alabao-guerras-de-genero-y-manosfera-antifeminista/
LOCATION:Lanónima\, C/ Pasaje Mallol 16\, Sevilla\, Sevilla\, 41003
CATEGORIES:Activismo,Presentación Libro
ATTACH;FMTTYPE=image/png:https://laretahila.org/wp-content/uploads/Presentacionlibro_ElTaller_Sevilla_LaRetahila-1.png
ORGANIZER;CN="Lan%C3%B3nima":MAILTO:lanonima@riseup.net
END:VEVENT
END:VCALENDAR