BEGIN:VCALENDAR
VERSION:2.0
PRODID:-//la retahíla - ECPv6.15.20//NONSGML v1.0//EN
CALSCALE:GREGORIAN
METHOD:PUBLISH
X-ORIGINAL-URL:https://laretahila.org
X-WR-CALDESC:Eventos para la retahíla
REFRESH-INTERVAL;VALUE=DURATION:PT1H
X-Robots-Tag:noindex
X-PUBLISHED-TTL:PT1H
BEGIN:VTIMEZONE
TZID:Europe/Madrid
BEGIN:DAYLIGHT
TZOFFSETFROM:+0100
TZOFFSETTO:+0200
TZNAME:CEST
DTSTART:20240331T010000
END:DAYLIGHT
BEGIN:STANDARD
TZOFFSETFROM:+0200
TZOFFSETTO:+0100
TZNAME:CET
DTSTART:20241027T010000
END:STANDARD
BEGIN:DAYLIGHT
TZOFFSETFROM:+0100
TZOFFSETTO:+0200
TZNAME:CEST
DTSTART:20250330T010000
END:DAYLIGHT
BEGIN:STANDARD
TZOFFSETFROM:+0200
TZOFFSETTO:+0100
TZNAME:CET
DTSTART:20251026T010000
END:STANDARD
BEGIN:DAYLIGHT
TZOFFSETFROM:+0100
TZOFFSETTO:+0200
TZNAME:CEST
DTSTART:20260329T010000
END:DAYLIGHT
BEGIN:STANDARD
TZOFFSETFROM:+0200
TZOFFSETTO:+0100
TZNAME:CET
DTSTART:20261025T010000
END:STANDARD
END:VTIMEZONE
BEGIN:VEVENT
DTSTART;TZID=Europe/Madrid:20250709T223000
DTEND;TZID=Europe/Madrid:20250710T003000
DTSTAMP:20260420T063925
CREATED:20250709T084026Z
LAST-MODIFIED:20251212T104429Z
UID:4547-1752100200-1752107400@laretahila.org
SUMMARY:Du côté de la côte y La Pointe Courte | 21 grados
DESCRIPTION:Agnès Varda\, figura clave del cine europeo y pionera entre las creadoras cinematográficas.\nEn el marco del ciclo SeFF de Verano – 21 Grados que organiza el CICUS en colaboración con el Festival de Cine Europeo de Sevilla\, se proyectan dos obras fundamentales de la cineasta francesa Agnès Varda\, figura clave del cine europeo y pionera entre las creadoras cinematográficas. \n🎥 Du côté de la côte (Francia\, 1958\, 27 min) es un cortometraje vibrante en el que Varda explora\, con una sensibilidad propia\, el contraste entre el ideal turístico del paraíso y la realidad de la masificación en las playas. \n🎞️ La Pointe Courte (Francia\, 1955\, 81 min) es su ópera prima\, una obra que combina escenas de la vida cotidiana en un pueblo costero con la historia de una pareja\, construyendo un relato que anticipa la Nueva Ola francesa y la mirada única de Varda como directora. \nUna cita imprescindible para disfrutar del cine europeo desde la perspectiva innovadora y artística de una de las figuras más inspiradoras de la historia del cine.
URL:https://laretahila.org/event/du-cote-de-la-cote-y-la-pointe-courte-21-grados/
LOCATION:CICUS\, C/ Madre de Dios 1\, Sevilla\, Sevilla\, 41004\, España
CATEGORIES:Cine
ATTACH;FMTTYPE=image/png:https://laretahila.org/wp-content/uploads/Cinemujeres_AgnesVarda_Sevilla_LaRetahila.png
END:VEVENT
BEGIN:VEVENT
DTSTART;TZID=Europe/Madrid:20250716T223000
DTEND;TZID=Europe/Madrid:20250716T230000
DTSTAMP:20260420T063925
CREATED:20250712T093137Z
LAST-MODIFIED:20251212T104545Z
UID:4544-1752705000-1752706800@laretahila.org
SUMMARY:El cuento de una noche de verano| 21 Grados
DESCRIPTION:Esta proyección forma parte del programa colaborativo con el Festival de Cine Europeo de Sevilla\nEl Centro de Iniciativas Culturales de la Universidad de Sevilla (CICUS) dentro del ciclo de cine de verano 21 Grados presenta el cortometraje El cuento de una noche de verano\, dirigido por María Herrera. La obra relata en apenas 20 minutos una breve pero intensa conexión entre dos personas durante una noche de verano\, poniendo el foco en momentos íntimos y afectivos que revelan la magia de los pequeños encuentros. \nEsta proyección forma parte del programa colaborativo con el Festival de Cine Europeo de Sevilla\, que cada verano lleva al patio de CICUS trabajos cinematográficos recientes y singulares que amplían las voces del cine europeo.
URL:https://laretahila.org/event/el-cuento-de-una-noche-de-verano-21-grados/
LOCATION:CICUS\, C/ Madre de Dios 1\, Sevilla\, Sevilla\, 41004\, España
CATEGORIES:Cine
ATTACH;FMTTYPE=image/png:https://laretahila.org/wp-content/uploads/Cinemujeres_MariaHerrera_Sevilla_LaRetahila.png
END:VEVENT
END:VCALENDAR