BEGIN:VCALENDAR
VERSION:2.0
PRODID:-//la retahíla - ECPv6.15.20//NONSGML v1.0//EN
CALSCALE:GREGORIAN
METHOD:PUBLISH
X-ORIGINAL-URL:https://laretahila.org
X-WR-CALDESC:Eventos para la retahíla
REFRESH-INTERVAL;VALUE=DURATION:PT1H
X-Robots-Tag:noindex
X-PUBLISHED-TTL:PT1H
BEGIN:VTIMEZONE
TZID:Europe/Madrid
BEGIN:DAYLIGHT
TZOFFSETFROM:+0100
TZOFFSETTO:+0200
TZNAME:CEST
DTSTART:20240331T010000
END:DAYLIGHT
BEGIN:STANDARD
TZOFFSETFROM:+0200
TZOFFSETTO:+0100
TZNAME:CET
DTSTART:20241027T010000
END:STANDARD
BEGIN:DAYLIGHT
TZOFFSETFROM:+0100
TZOFFSETTO:+0200
TZNAME:CEST
DTSTART:20250330T010000
END:DAYLIGHT
BEGIN:STANDARD
TZOFFSETFROM:+0200
TZOFFSETTO:+0100
TZNAME:CET
DTSTART:20251026T010000
END:STANDARD
BEGIN:DAYLIGHT
TZOFFSETFROM:+0100
TZOFFSETTO:+0200
TZNAME:CEST
DTSTART:20260329T010000
END:DAYLIGHT
BEGIN:STANDARD
TZOFFSETFROM:+0200
TZOFFSETTO:+0100
TZNAME:CET
DTSTART:20261025T010000
END:STANDARD
END:VTIMEZONE
BEGIN:VEVENT
DTSTART;TZID=Europe/Madrid:20251204T170000
DTEND;TZID=Europe/Madrid:20251204T183000
DTSTAMP:20260420T042612
CREATED:20251203T130536Z
LAST-MODIFIED:20251203T130536Z
UID:4533-1764867600-1764873000@laretahila.org
SUMMARY:Recuperar memoria y obra | Escritoras Andaluzas Ocultas
DESCRIPTION:Una cita para reivindicar la genealogía literaria de las mujeres y seguir construyendo memoria feminista.\nLa asociación Mujeres en Igualdad\, junto al Servicio de la Mujer del Ayuntamiento de Sevilla\, organiza esta actividad dedicada a recuperar y poner en valor la obra y la memoria de autoras andaluzas invisibilizadas por la historia. \nEn este encuentro se abordarán las figuras de Regla Manjón Megelina y la Condesa de Lebrija\, dos escritoras cuyo legado literario y cultural ha sido frecuentemente relegado\, pese a su importante aportación a las letras andaluzas.
URL:https://laretahila.org/event/recuperar-memoria-y-obra-escritoras-andaluzas-ocultas/
LOCATION:Centro cívico El Tejar del Mellizo\, calle Santa Fe\, 2\, Sevilla\, 41011\, Spain
CATEGORIES:Coloquio,Literatura
ATTACH;FMTTYPE=image/png:https://laretahila.org/wp-content/uploads/EscritorasAndaluzas_CCTejarElMellizo_Sevilla_LaRetahila.png
ORGANIZER;CN="Asociaci%C3%B3n Mujeres en Igualdad":MAILTO:info@mujeresenigualdad.com
END:VEVENT
END:VCALENDAR