BEGIN:VCALENDAR
VERSION:2.0
PRODID:-//la retahíla - ECPv6.15.20//NONSGML v1.0//EN
CALSCALE:GREGORIAN
METHOD:PUBLISH
X-ORIGINAL-URL:https://laretahila.org
X-WR-CALDESC:Eventos para la retahíla
REFRESH-INTERVAL;VALUE=DURATION:PT1H
X-Robots-Tag:noindex
X-PUBLISHED-TTL:PT1H
BEGIN:VTIMEZONE
TZID:Europe/Madrid
BEGIN:DAYLIGHT
TZOFFSETFROM:+0100
TZOFFSETTO:+0200
TZNAME:CEST
DTSTART:20240331T010000
END:DAYLIGHT
BEGIN:STANDARD
TZOFFSETFROM:+0200
TZOFFSETTO:+0100
TZNAME:CET
DTSTART:20241027T010000
END:STANDARD
BEGIN:DAYLIGHT
TZOFFSETFROM:+0100
TZOFFSETTO:+0200
TZNAME:CEST
DTSTART:20250330T010000
END:DAYLIGHT
BEGIN:STANDARD
TZOFFSETFROM:+0200
TZOFFSETTO:+0100
TZNAME:CET
DTSTART:20251026T010000
END:STANDARD
BEGIN:DAYLIGHT
TZOFFSETFROM:+0100
TZOFFSETTO:+0200
TZNAME:CEST
DTSTART:20260329T010000
END:DAYLIGHT
BEGIN:STANDARD
TZOFFSETFROM:+0200
TZOFFSETTO:+0100
TZNAME:CET
DTSTART:20261025T010000
END:STANDARD
END:VTIMEZONE
BEGIN:VEVENT
DTSTART;TZID=Europe/Madrid:20251002T193000
DTEND;TZID=Europe/Madrid:20251002T210000
DTSTAMP:20260420T093759
CREATED:20250924T115847Z
LAST-MODIFIED:20251214T030411Z
UID:4644-1759433400-1759438800@laretahila.org
SUMMARY:Presentación | Puro empeño de María Iglesias en CICUS
DESCRIPTION:Encuentro literario con la escritora sevillana María Iglesias\, conversación y firma de ejemplares.\nPuro empeño es la nueva novela de la escritora y periodista sevillana María Iglesias\, presentada en un encuentro literario en el CICUS (Centro de Iniciativas Culturales de la Universidad de Sevilla) que reúne a lectoras\, escritoras y público interesado en una conversación profunda sobre ficción\, memoria\, migración y relaciones culturales. En el acto participan María Iglesias\, acompañada por el periodista cultural Leonardo Sardiña y la periodista Bineta Gaye\, generando un diálogo abierto en torno a los temas que atraviesan la obra. \nTras la presentación\, se ofrece un espacio de firma de libros con la autora\, facilitando un acercamiento directo entre la comunidad lectora y la creadora. La actividad forma parte de los ciclos de encuentros culturales que promueve CICUS en colaboración con Editorial Edhasa y Librería La Botica de Lectores.
URL:https://laretahila.org/event/presentacion-puro-empeno-de-maria-iglesias-en-cicus/
LOCATION:CICUS\, C/ Madre de Dios 1\, Sevilla\, Sevilla\, 41004\, España
CATEGORIES:Coloquio,Literatura,Presentación Libro
ATTACH;FMTTYPE=image/png:https://laretahila.org/wp-content/uploads/PuroEmpeno_PresentacionLibroCICUS_Sevilla_LaRetahila.png
END:VEVENT
END:VCALENDAR