BEGIN:VCALENDAR
VERSION:2.0
PRODID:-//la retahíla - ECPv6.15.20//NONSGML v1.0//EN
CALSCALE:GREGORIAN
METHOD:PUBLISH
X-ORIGINAL-URL:https://laretahila.org
X-WR-CALDESC:Eventos para la retahíla
REFRESH-INTERVAL;VALUE=DURATION:PT1H
X-Robots-Tag:noindex
X-PUBLISHED-TTL:PT1H
BEGIN:VTIMEZONE
TZID:Europe/Madrid
BEGIN:DAYLIGHT
TZOFFSETFROM:+0100
TZOFFSETTO:+0200
TZNAME:CEST
DTSTART:20240331T010000
END:DAYLIGHT
BEGIN:STANDARD
TZOFFSETFROM:+0200
TZOFFSETTO:+0100
TZNAME:CET
DTSTART:20241027T010000
END:STANDARD
BEGIN:DAYLIGHT
TZOFFSETFROM:+0100
TZOFFSETTO:+0200
TZNAME:CEST
DTSTART:20250330T010000
END:DAYLIGHT
BEGIN:STANDARD
TZOFFSETFROM:+0200
TZOFFSETTO:+0100
TZNAME:CET
DTSTART:20251026T010000
END:STANDARD
BEGIN:DAYLIGHT
TZOFFSETFROM:+0100
TZOFFSETTO:+0200
TZNAME:CEST
DTSTART:20260329T010000
END:DAYLIGHT
BEGIN:STANDARD
TZOFFSETFROM:+0200
TZOFFSETTO:+0100
TZNAME:CET
DTSTART:20261025T010000
END:STANDARD
END:VTIMEZONE
BEGIN:VEVENT
DTSTART;TZID=Europe/Madrid:20251014T193000
DTEND;TZID=Europe/Madrid:20251014T203000
DTSTAMP:20260420T093755
CREATED:20251010T120306Z
LAST-MODIFIED:20251120T132517Z
UID:4453-1760470200-1760473800@laretahila.org
SUMMARY:Voces desde Sevilla | Día de las escritoras
DESCRIPTION:El Día de las escritoras\, reúne a varias escritoras sevillanas en la Biblioteca Pública Provincial de Sevilla.\nCon motivo del Día de las escritoras\, la Biblioteca Pública Provincial de Sevilla acoge la mesa redonda «Voces desde Sevilla»\, en la que participarán tres autoras sevillanas: Carmen Camacho\, Silvia Hidalgo e Irene Reyes-Nogerol. \nSe trata de una cita para conmemorar y reivindicar la labor y el legado de las mujeres escritoras\, quienes durante siglos fueron silenciadas\, y además\, para escuchar las voces de las autoras contemporáneas que continúan enriqueciendo hoy nuestra literatura. \nLa entrada al conversatorio es libre hasta completar aforo. \n  \nFuente: Biblioteca Pública Provincial de Sevilla – Infanta Elena.
URL:https://laretahila.org/event/voces-desde-sevilla-dia-de-las-escritoras/
LOCATION:Biblioteca Provincial Infanta Elena\, Avda. de María Luisa 8\, Sevilla\, 41013
CATEGORIES:Coloquio,Encuentro,Mesa Redonda
ATTACH;FMTTYPE=image/png:https://laretahila.org/wp-content/uploads/DiadelasEscritoras_VocesdesdeSevilla_Sevilla_LaRetahila.png
ORGANIZER;CN="Biblioteca Provincial Infanta Elena":MAILTO:informacion.bp.se.ccul@juntadeandalucia.es
END:VEVENT
END:VCALENDAR