BEGIN:VCALENDAR
VERSION:2.0
PRODID:-//la retahíla - ECPv6.15.20//NONSGML v1.0//EN
CALSCALE:GREGORIAN
METHOD:PUBLISH
X-WR-CALNAME:la retahíla
X-ORIGINAL-URL:https://laretahila.org
X-WR-CALDESC:Eventos para la retahíla
REFRESH-INTERVAL;VALUE=DURATION:PT1H
X-Robots-Tag:noindex
X-PUBLISHED-TTL:PT1H
BEGIN:VTIMEZONE
TZID:Europe/Madrid
BEGIN:DAYLIGHT
TZOFFSETFROM:+0100
TZOFFSETTO:+0200
TZNAME:CEST
DTSTART:20240331T010000
END:DAYLIGHT
BEGIN:STANDARD
TZOFFSETFROM:+0200
TZOFFSETTO:+0100
TZNAME:CET
DTSTART:20241027T010000
END:STANDARD
BEGIN:DAYLIGHT
TZOFFSETFROM:+0100
TZOFFSETTO:+0200
TZNAME:CEST
DTSTART:20250330T010000
END:DAYLIGHT
BEGIN:STANDARD
TZOFFSETFROM:+0200
TZOFFSETTO:+0100
TZNAME:CET
DTSTART:20251026T010000
END:STANDARD
BEGIN:DAYLIGHT
TZOFFSETFROM:+0100
TZOFFSETTO:+0200
TZNAME:CEST
DTSTART:20260329T010000
END:DAYLIGHT
BEGIN:STANDARD
TZOFFSETFROM:+0200
TZOFFSETTO:+0100
TZNAME:CET
DTSTART:20261025T010000
END:STANDARD
END:VTIMEZONE
BEGIN:VEVENT
DTSTART;TZID=Europe/Madrid:20251216T180000
DTEND;TZID=Europe/Madrid:20251216T193000
DTSTAMP:20260420T151221
CREATED:20251212T125943Z
LAST-MODIFIED:20251214T130724Z
UID:4688-1765908000-1765913400@laretahila.org
SUMMARY:Día de la Lectura en Andalucía | Encuentro con Remedios Zafra
DESCRIPTION:La escritora y ensayista reflexiona sobre el poder de los libros en la cultura contemporánea.\nEl Centro Andaluz de las Letras organiza un encuentro con la escritora y ensayista Remedios Zafra\, ganadora del Premio Nacional de Ensayo 2025\, con motivo del Día de la Lectura en Andalucía. La actividad propone un espacio de reflexión colectiva sobre la lectura como práctica crítica y transformadora en el contexto cultural actual. \nBajo el título “La lectura y la época\, la lectura a pesar de la época”\, Zafra abordará el papel de los libros en la cultura contemporánea a partir de algunas de las obras que han marcado su trayectoria personal e intelectual. Su intervención conecta pensamiento\, feminismo y análisis de la cultura digital\, poniendo en valor la lectura como herramienta de resistencia\, cuidado y construcción de sentido. \n  \nSobre la autora: \nRemedios Zafra\, antropóloga\, investigadora y docente en el Instituto de Filosofía del CSIC\, es una de las voces más relevantes del pensamiento crítico actual. Su trabajo se centra en la intersección entre arte\, género\, tecnología y cultura contemporánea\, y ha comisariado diversos proyectos vinculados a estos ámbitos.
URL:https://laretahila.org/event/dia-de-la-lectura-en-andalucia-encuentro-con-remedios-zafra/
LOCATION:Biblioteca Provincial Infanta Elena\, Avda. de María Luisa 8\, Sevilla\, 41013
CATEGORIES:Cultura,Encuentro,Literatura
ATTACH;FMTTYPE=image/png:https://laretahila.org/wp-content/uploads/presentaconLIbro_RemediosZafra_Sevilla_LaRetahila.png
ORGANIZER;CN="Centro Andaluz de las Letras":MAILTO:cal.aaiic@juntadeandalucia.es
END:VEVENT
END:VCALENDAR