BEGIN:VCALENDAR
VERSION:2.0
PRODID:-//la retahíla - ECPv6.15.20//NONSGML v1.0//EN
CALSCALE:GREGORIAN
METHOD:PUBLISH
X-WR-CALNAME:la retahíla
X-ORIGINAL-URL:https://laretahila.org
X-WR-CALDESC:Eventos para la retahíla
REFRESH-INTERVAL;VALUE=DURATION:PT1H
X-Robots-Tag:noindex
X-PUBLISHED-TTL:PT1H
BEGIN:VTIMEZONE
TZID:Europe/Madrid
BEGIN:DAYLIGHT
TZOFFSETFROM:+0100
TZOFFSETTO:+0200
TZNAME:CEST
DTSTART:20240331T010000
END:DAYLIGHT
BEGIN:STANDARD
TZOFFSETFROM:+0200
TZOFFSETTO:+0100
TZNAME:CET
DTSTART:20241027T010000
END:STANDARD
BEGIN:DAYLIGHT
TZOFFSETFROM:+0100
TZOFFSETTO:+0200
TZNAME:CEST
DTSTART:20250330T010000
END:DAYLIGHT
BEGIN:STANDARD
TZOFFSETFROM:+0200
TZOFFSETTO:+0100
TZNAME:CET
DTSTART:20251026T010000
END:STANDARD
BEGIN:DAYLIGHT
TZOFFSETFROM:+0100
TZOFFSETTO:+0200
TZNAME:CEST
DTSTART:20260329T010000
END:DAYLIGHT
BEGIN:STANDARD
TZOFFSETFROM:+0200
TZOFFSETTO:+0100
TZNAME:CET
DTSTART:20261025T010000
END:STANDARD
END:VTIMEZONE
BEGIN:VEVENT
DTSTART;TZID=Europe/Madrid:20251211T100000
DTEND;TZID=Europe/Madrid:20251217T133000
DTSTAMP:20260420T010315
CREATED:20251210T114952Z
LAST-MODIFIED:20251213T120320Z
UID:4557-1765447200-1765978200@laretahila.org
SUMMARY:Empleo para la Mujer | Centro Cívico Los Carteros
DESCRIPTION:Una actividad orientada a informar\, orientar y acompañar a mujeres en la búsqueda de empleo.\nEl Servicio de la Mujer del Ayuntamiento de Sevilla desarrolla una nueva edición de Recursos de Empleo para la Mujer\, una actividad orientada a informar\, orientar y acompañar a mujeres en la búsqueda de empleo y mejora de su inserción laboral. \nEl encuentro tiene lugar el jueves 11 de diciembre a las 10:00 horas en el Centro Cívico Los Carteros\, y ofrece un espacio práctico donde conocer herramientas\, recursos y claves para identificar oportunidades laborales y avanzar hacia un proyecto profesional propio. \nEsta iniciativa se enmarca dentro de las políticas municipales de igualdad y empleo\, con el objetivo de impulsar la autonomía económica de las mujeres y facilitar el acceso a información útil para su desarrollo profesional. \nInscripciones abiertas en el siguiente enlace:https://forms.gle/3wiKxqmLyxMdpLm97
URL:https://laretahila.org/event/empleo-para-la-mujer-centro-civico-los-carteros/
LOCATION:Centro cívico Los carteros\, Av. Pino Montano 21\, Sevilla\, 41008
CATEGORIES:Empleo,Taller
ATTACH;FMTTYPE=image/png:https://laretahila.org/wp-content/uploads/EmpleoMujeres_AytoSevilla_LaRetahila.png
END:VEVENT
END:VCALENDAR