BEGIN:VCALENDAR
VERSION:2.0
PRODID:-//la retahíla - ECPv6.15.20//NONSGML v1.0//EN
CALSCALE:GREGORIAN
METHOD:PUBLISH
X-WR-CALNAME:la retahíla
X-ORIGINAL-URL:https://laretahila.org
X-WR-CALDESC:Eventos para la retahíla
REFRESH-INTERVAL;VALUE=DURATION:PT1H
X-Robots-Tag:noindex
X-PUBLISHED-TTL:PT1H
BEGIN:VTIMEZONE
TZID:Europe/Madrid
BEGIN:DAYLIGHT
TZOFFSETFROM:+0100
TZOFFSETTO:+0200
TZNAME:CEST
DTSTART:20240331T010000
END:DAYLIGHT
BEGIN:STANDARD
TZOFFSETFROM:+0200
TZOFFSETTO:+0100
TZNAME:CET
DTSTART:20241027T010000
END:STANDARD
BEGIN:DAYLIGHT
TZOFFSETFROM:+0100
TZOFFSETTO:+0200
TZNAME:CEST
DTSTART:20250330T010000
END:DAYLIGHT
BEGIN:STANDARD
TZOFFSETFROM:+0200
TZOFFSETTO:+0100
TZNAME:CET
DTSTART:20251026T010000
END:STANDARD
BEGIN:DAYLIGHT
TZOFFSETFROM:+0100
TZOFFSETTO:+0200
TZNAME:CEST
DTSTART:20260329T010000
END:DAYLIGHT
BEGIN:STANDARD
TZOFFSETFROM:+0200
TZOFFSETTO:+0100
TZNAME:CET
DTSTART:20261025T010000
END:STANDARD
END:VTIMEZONE
BEGIN:VEVENT
DTSTART;TZID=Europe/Madrid:20251130T110000
DTEND;TZID=Europe/Madrid:20251130T200000
DTSTAMP:20260419T201253
CREATED:20251126T121639Z
LAST-MODIFIED:20251126T121639Z
UID:4498-1764500400-1764532800@laretahila.org
SUMMARY:Vuelve la III Feria de Emprendimiento de Mujeres Migrantes
DESCRIPTION:El próximo 30 de noviembre la Casa Grande del Pumarejo acoge la III edición de la Feria de iniciativas de Emprendimiento de Mujeres Migrantes\nEl próximo domingo 30 de noviembre\, de 11:00 a 20:00 horas en la Casa Grande del Pumarejo\, integrantes de la Asociación de trabajadoras y trabajadores del hogar de Sevilla\, presentarán la  III edición de la Feria de iniciativas de Emprendimiento de Mujeres Migrantes.  \nLas mujeres miembro de la asociación de 7 países diferentes compartirán sus iniciativas de emprendimiento y propuestas de negocio. Entre las categorías\, se podrán encontrar productos de salud y estética\, de arte y artesanía\, gastronomía latina y repostería… Una oportunidad de compartir sabores\, saberes\, conocimientos y experiencias del proceso vital de estas mujeres migrantes. \nAdemás\, habrá música\, degustación\, sorteos\, baile y más actividades.
URL:https://laretahila.org/event/vuelve-la-iii-feria-de-emprendimiento-de-mujeres-migrantes/
LOCATION:Casa Grande del Pumarejo\, Plaza del Pumarejo\, 3\, Sevilla\, Sevilla\, 41003\, España
CATEGORIES:Emprendimiento,Exposición,Ocio
ATTACH;FMTTYPE=image/png:https://laretahila.org/wp-content/uploads/FeriaMujeresyEmprendimiento_CasaGrandePumarejo_Sevilla_LaRetahila.png
ORGANIZER;CN="Asociaci%C3%B3n de trabajadoras y trabajadores del hogar de Sevilla":MAILTO:empleadasdelhogarsevilla@gmail.com
END:VEVENT
END:VCALENDAR