BEGIN:VCALENDAR
VERSION:2.0
PRODID:-//la retahíla - ECPv6.15.20//NONSGML v1.0//EN
CALSCALE:GREGORIAN
METHOD:PUBLISH
X-ORIGINAL-URL:https://laretahila.org
X-WR-CALDESC:Eventos para la retahíla
REFRESH-INTERVAL;VALUE=DURATION:PT1H
X-Robots-Tag:noindex
X-PUBLISHED-TTL:PT1H
BEGIN:VTIMEZONE
TZID:Europe/Madrid
BEGIN:DAYLIGHT
TZOFFSETFROM:+0100
TZOFFSETTO:+0200
TZNAME:CEST
DTSTART:20240331T010000
END:DAYLIGHT
BEGIN:STANDARD
TZOFFSETFROM:+0200
TZOFFSETTO:+0100
TZNAME:CET
DTSTART:20241027T010000
END:STANDARD
BEGIN:DAYLIGHT
TZOFFSETFROM:+0100
TZOFFSETTO:+0200
TZNAME:CEST
DTSTART:20250330T010000
END:DAYLIGHT
BEGIN:STANDARD
TZOFFSETFROM:+0200
TZOFFSETTO:+0100
TZNAME:CET
DTSTART:20251026T010000
END:STANDARD
BEGIN:DAYLIGHT
TZOFFSETFROM:+0100
TZOFFSETTO:+0200
TZNAME:CEST
DTSTART:20260329T010000
END:DAYLIGHT
BEGIN:STANDARD
TZOFFSETFROM:+0200
TZOFFSETTO:+0100
TZNAME:CET
DTSTART:20261025T010000
END:STANDARD
END:VTIMEZONE
BEGIN:VEVENT
DTSTART;VALUE=DATE:20250905
DTEND;VALUE=DATE:20250906
DTSTAMP:20260420T073337
CREATED:20250905T113757Z
LAST-MODIFIED:20251214T124252Z
UID:4683-1757030400-1757116799@laretahila.org
SUMMARY:Abierto el plazo de inscripción: mujeres y migraciones
DESCRIPTION:Formación presencial dirigida al personal de la Administración Pública de Sevilla.\nSe abre el plazo de inscripción para el curso “Migraciones y trata de seres humanos. Especial situación de las mujeres”\, una formación presencial que se celebrará en Sevilla del 20 al 22 de octubre de 2025. El curso aborda la trata de seres humanos y la prostitución desde una perspectiva de género\, poniendo el foco en las experiencias y vulneraciones específicas que afectan a mujeres migradas. \nLa formación está orientada a fortalecer las capacidades profesionales del personal de la Administración Pública\, especialmente de quienes trabajan en la atención directa a la ciudadanía\, ofreciendo herramientas para la detección\, prevención y acompañamiento de posibles situaciones de trata y explotación. La actividad combina un enfoque técnico con una mirada feminista y de derechos humanos\, imprescindible para la intervención institucional. \nInscripciones aquí.
URL:https://laretahila.org/event/abierto-el-plazo-de-inscripcion-mujeres-y-migraciones/
CATEGORIES:Curso,Formación
END:VEVENT
END:VCALENDAR