BEGIN:VCALENDAR
VERSION:2.0
PRODID:-//la retahíla - ECPv6.15.20//NONSGML v1.0//EN
CALSCALE:GREGORIAN
METHOD:PUBLISH
X-WR-CALNAME:la retahíla
X-ORIGINAL-URL:https://laretahila.org
X-WR-CALDESC:Eventos para la retahíla
REFRESH-INTERVAL;VALUE=DURATION:PT1H
X-Robots-Tag:noindex
X-PUBLISHED-TTL:PT1H
BEGIN:VTIMEZONE
TZID:Europe/Madrid
BEGIN:DAYLIGHT
TZOFFSETFROM:+0100
TZOFFSETTO:+0200
TZNAME:CEST
DTSTART:20240331T010000
END:DAYLIGHT
BEGIN:STANDARD
TZOFFSETFROM:+0200
TZOFFSETTO:+0100
TZNAME:CET
DTSTART:20241027T010000
END:STANDARD
BEGIN:DAYLIGHT
TZOFFSETFROM:+0100
TZOFFSETTO:+0200
TZNAME:CEST
DTSTART:20250330T010000
END:DAYLIGHT
BEGIN:STANDARD
TZOFFSETFROM:+0200
TZOFFSETTO:+0100
TZNAME:CET
DTSTART:20251026T010000
END:STANDARD
BEGIN:DAYLIGHT
TZOFFSETFROM:+0100
TZOFFSETTO:+0200
TZNAME:CEST
DTSTART:20260329T010000
END:DAYLIGHT
BEGIN:STANDARD
TZOFFSETFROM:+0200
TZOFFSETTO:+0100
TZNAME:CET
DTSTART:20261025T010000
END:STANDARD
END:VTIMEZONE
BEGIN:VEVENT
DTSTART;TZID=Europe/Madrid:20250918T080000
DTEND;TZID=Europe/Madrid:20251007T233000
DTSTAMP:20260420T054425
CREATED:20250908T082822Z
LAST-MODIFIED:20251214T053515Z
UID:4656-1758182400-1759879800@laretahila.org
SUMMARY:Ciberviolencias contra mujeres y niñas | Formación online Colaboratorias
DESCRIPTION:30 horas de formación online para reconocer\, prevenir y actuar frente a la violencia digital machista.\nLa violencia digital contra mujeres y niñas es una realidad extendida: 7 de cada 10 mujeres la han sufrido\, y en más del 85 % de los casos\, quienes la ejercen son hombres. Acoso\, sextorsión\, deepfakes y otras formas de ciberviolencia forman parte de un patrón de violencia machista que debemos reconocer\, prevenir y denunciar. \nCon este objetivo\, Colaboratorias pone en marcha el curso online “Ciberviolencias contra mujeres y niñas: diagnóstico\, estrategias y herramientas”\, una formación de 30 horas dirigida especialmente a mujeres jóvenes y/o residentes en ámbitos rurales de Andalucía. La actividad se desarrolla del 18 de septiembre al 7 de octubre de 2025 y se realiza a través del Aula Virtual Colaboratorias. \nEsta formación forma parte del proyecto “Ciberseguras por unas relaciones digitales libres de violencias contra las mujeres y las niñas”\, subvencionado por el Instituto Andaluz de la Mujer\, y busca dotar a las participantes de herramientas prácticas y conocimientos necesarios para identificar\, prevenir y actuar frente a la ciberviolencia en distintos entornos digitales.
URL:https://laretahila.org/event/ciberviolencias-contra-mujeres-y-ninas-formacion-online-colaboratorias/
CATEGORIES:Formación
ATTACH;FMTTYPE=image/png:https://laretahila.org/wp-content/uploads/Ciberseguras_FormacionOnline_Sevilla_LaRetahila.png
ORGANIZER;CN="Colaboratorias":MAILTO:formacion@colaboratorias.org
END:VEVENT
END:VCALENDAR