BEGIN:VCALENDAR
VERSION:2.0
PRODID:-//la retahíla - ECPv6.15.20//NONSGML v1.0//EN
CALSCALE:GREGORIAN
METHOD:PUBLISH
X-WR-CALNAME:la retahíla
X-ORIGINAL-URL:https://laretahila.org
X-WR-CALDESC:Eventos para la retahíla
REFRESH-INTERVAL;VALUE=DURATION:PT1H
X-Robots-Tag:noindex
X-PUBLISHED-TTL:PT1H
BEGIN:VTIMEZONE
TZID:Europe/Madrid
BEGIN:DAYLIGHT
TZOFFSETFROM:+0100
TZOFFSETTO:+0200
TZNAME:CEST
DTSTART:20240331T010000
END:DAYLIGHT
BEGIN:STANDARD
TZOFFSETFROM:+0200
TZOFFSETTO:+0100
TZNAME:CET
DTSTART:20241027T010000
END:STANDARD
BEGIN:DAYLIGHT
TZOFFSETFROM:+0100
TZOFFSETTO:+0200
TZNAME:CEST
DTSTART:20250330T010000
END:DAYLIGHT
BEGIN:STANDARD
TZOFFSETFROM:+0200
TZOFFSETTO:+0100
TZNAME:CET
DTSTART:20251026T010000
END:STANDARD
BEGIN:DAYLIGHT
TZOFFSETFROM:+0100
TZOFFSETTO:+0200
TZNAME:CEST
DTSTART:20260329T010000
END:DAYLIGHT
BEGIN:STANDARD
TZOFFSETFROM:+0200
TZOFFSETTO:+0100
TZNAME:CET
DTSTART:20261025T010000
END:STANDARD
END:VTIMEZONE
BEGIN:VEVENT
DTSTART;TZID=Europe/Madrid:20251105T193000
DTEND;TZID=Europe/Madrid:20251105T203000
DTSTAMP:20260420T155650
CREATED:20251103T125653Z
LAST-MODIFIED:20251103T125653Z
UID:4394-1762371000-1762374600@laretahila.org
SUMMARY:Encuentro con Laura Ortiz | CICUS
DESCRIPTION:La autora colombiana presenta Indócil en el Centro de Iniciativas Culturales de la Universidad de Sevilla.\nEl Centro Andaluz de las Letras (CAL)\, en colaboración con el Centro de Iniciativas Culturales de la Universidad de Sevilla (CICUS)\, organiza un encuentro con la escritora colombiana Laura Ortiz Gómez en torno a su novela Indócil. \nLa autora\, reconocida por su obra Sofoco —ganadora del Premio Nacional de Narrativa Elisa Mújica—\, conversará con la gestora cultural Macarena Salmerón sobre la crisis habitacional contemporánea y cómo la literatura puede ser una herramienta para reflexionar sobre las desigualdades sociales\, la precariedad y la resistencia cotidiana. \nEn Indócil\, Ortiz explora las violencias y tensiones que atraviesan el derecho a la vivienda y la dignidad\, construyendo un relato que combina crítica social\, intimidad y poética de la desobediencia. \n\nEntrada gratuita\, previa reserva.
URL:https://laretahila.org/event/encuentro-con-laura-ortiz-cicus/
LOCATION:CICUS\, C/ Madre de Dios 1\, Sevilla\, Sevilla\, 41004\, España
CATEGORIES:Encuentro,Presentación Libro
ATTACH;FMTTYPE=image/png:https://laretahila.org/wp-content/uploads/PresentacionIndocilLO_CentroAndaluzdelasLetras_Sevilla_LaRetahila.png
ORGANIZER;CN="Centro Andaluz de las Letras":MAILTO:cal.aaiic@juntadeandalucia.es
END:VEVENT
BEGIN:VEVENT
DTSTART;TZID=Europe/Madrid:20251108T120000
DTEND;TZID=Europe/Madrid:20251108T130000
DTSTAMP:20260420T155650
CREATED:20251103T094728Z
LAST-MODIFIED:20251214T125100Z
UID:4685-1762603200-1762606800@laretahila.org
SUMMARY:Presentación libro: Medea\, o\, El herido corazón de la granada
DESCRIPTION:Encuentro literario organizado por Páginas Violeta en la Librería Casa Tomada.\nLa Librería Casa Tomada acoge la presentación del libro Medea\, o\, El herido corazón de la granada\, de la escritora Elisa Constanza Zamora Pérez\, en un encuentro organizado por Páginas Violeta que invita a reflexionar sobre el mito\, el deseo y las violencias que atraviesan los cuerpos y las genealogías femeninas. \nLa novela propone una relectura contemporánea del mito de Medea\, explorando el dolor\, la rabia y la memoria desde una escritura poética y política que cuestiona los relatos tradicionales y recupera la voz de una mujer históricamente estigmatizada. A través de una prosa intensa y simbólica\, la obra indaga en las heridas heredadas y en las posibilidades de resignificación y resistencia. \n  \nSobre la autora: \nElisa Constanza Zamora Pérez desarrolla una escritura comprometida con el pensamiento crítico y feminista\, donde el cuerpo\, la palabra y el mito se entrelazan como herramientas para pensar el presente desde una mirada literaria profundamente transformadora.
URL:https://laretahila.org/event/presentacion-libro-medea-o-el-herido-corazon-de-la-granada/
LOCATION:Librería Casa Tomada\, C/ Muro de los Navarros\, 66\, Sevilla\, Sevilla\, 41003\, España
CATEGORIES:Literatura,Presentación Libro
ATTACH;FMTTYPE=image/png:https://laretahila.org/wp-content/uploads/PresentacionLIbro_CasaTomada_Sevilla_LaRetahila.png
END:VEVENT
BEGIN:VEVENT
DTSTART;TZID=Europe/Madrid:20251113T080000
DTEND;TZID=Europe/Madrid:20251113T170000
DTSTAMP:20260420T155650
CREATED:20251112T112252Z
LAST-MODIFIED:20251121T114256Z
UID:4470-1763020800-1763053200@laretahila.org
SUMMARY:Una guía para combatir la violencia machista desde las aulas
DESCRIPTION:Estela Moreno presenta ‘¿Y si hablamos de violencia de género en educación infantil y primaria?’\, un recurso para docentes y familias.\nLa experta en violencia de género y malos tratos\, Estela Moreno\, presenta en Sevilla su último trabajo: ¿Y si hablamos de violencia de género en educación infantil y primaria? 20 respuestas reales para perder el miedo\, una guía dirigida a docentes y familias con la que prevenir la violencia machista. La autora\, sobreviviente de violencia de género\, defiende que la verdadera prevención comienza con conversaciones sinceras adaptadas al lenguaje infantil. \nEl libro\, fruto de más de siete años de trabajo en aulas por toda España\, ofrece respuestas a preguntas habituales en docentes y padres cuando abordan esta temática con los más pequeños: a qué edad es apropiado hablar sobre violencia de género\, cómo adaptar el lenguaje y los contenidos según la edad o qué protocolo seguir si se detecta un posible caso en el entorno escolar. \nEstela Moreno ha sido reconocida por su trayectoria educativa recibiendo galardones como el Premio Meridiana\, el Rosa Regás y la distinción Menina\, convirtiéndose en referente en la prevención de la violencia machista desde el ámbito educativo.
URL:https://laretahila.org/event/una-guia-para-combatir-la-violencia-machista-desde-las-aulas/
LOCATION:Centro de Documentación María Zambrano\, C/ Alfonso XII\, 52\, Sevilla\, Sevilla\, 41002\, Spain
CATEGORIES:Coloquio,Encuentro,Literatura,Presentación Libro
ATTACH;FMTTYPE=image/png:https://laretahila.org/wp-content/uploads/Presentacionlibro_ysihablamosde_Sevilla_LaRetahila.png
END:VEVENT
END:VCALENDAR