BEGIN:VCALENDAR
VERSION:2.0
PRODID:-//la retahíla - ECPv6.15.20//NONSGML v1.0//EN
CALSCALE:GREGORIAN
METHOD:PUBLISH
X-ORIGINAL-URL:https://laretahila.org
X-WR-CALDESC:Eventos para la retahíla
REFRESH-INTERVAL;VALUE=DURATION:PT1H
X-Robots-Tag:noindex
X-PUBLISHED-TTL:PT1H
BEGIN:VTIMEZONE
TZID:Europe/Madrid
BEGIN:DAYLIGHT
TZOFFSETFROM:+0100
TZOFFSETTO:+0200
TZNAME:CEST
DTSTART:20240331T010000
END:DAYLIGHT
BEGIN:STANDARD
TZOFFSETFROM:+0200
TZOFFSETTO:+0100
TZNAME:CET
DTSTART:20241027T010000
END:STANDARD
BEGIN:DAYLIGHT
TZOFFSETFROM:+0100
TZOFFSETTO:+0200
TZNAME:CEST
DTSTART:20250330T010000
END:DAYLIGHT
BEGIN:STANDARD
TZOFFSETFROM:+0200
TZOFFSETTO:+0100
TZNAME:CET
DTSTART:20251026T010000
END:STANDARD
BEGIN:DAYLIGHT
TZOFFSETFROM:+0100
TZOFFSETTO:+0200
TZNAME:CEST
DTSTART:20260329T010000
END:DAYLIGHT
BEGIN:STANDARD
TZOFFSETFROM:+0200
TZOFFSETTO:+0100
TZNAME:CET
DTSTART:20261025T010000
END:STANDARD
END:VTIMEZONE
BEGIN:VEVENT
DTSTART;TZID=Europe/Madrid:20251020T083000
DTEND;TZID=Europe/Madrid:20251020T123000
DTSTAMP:20260419T174313
CREATED:20251010T115805Z
LAST-MODIFIED:20251010T120059Z
UID:4302-1760949000-1760963400@laretahila.org
SUMMARY:Seminario Videojuegos en femenino | Diseñar\, jugar\, transformar
DESCRIPTION:Videojuegos en femenino\, un espacio para la reflexión sobre el papel de la mujer en los videojuegos\nLa Unidad de Igualdad de la Universidad de Sevilla organiza el seminario Videojuegos en femenino\, un espacio de reflexión crítica sobre el papel de las mujeres en la industria de los videojuegos: como desarrolladoras\, jugadoras\, narradoras y agitadoras de resistencias. \nEste encuentro propone varios ejes temáticos como son la visibilidad femenina en el desarrollo de videojuegos\, la necesidad de crear narrativas feministas en los videojuegos\, y la de entender los videojuegos como herramienta de empoderamiento y transformación social. \nEl seminario es presencial\, los días 20 y 27 de octubre de 2025\, en la Facultad de Ciencias de la Educación de la US. \nInscripción: gratuita hasta agotar plazas\, previa inscripción aquí. 
URL:https://laretahila.org/event/seminario-videojuegos-en-femenino-disenar-jugar-transformar/
LOCATION:Facultad de Ciencias de la Educación\, C/ Pirotecnia 19\, 41013
CATEGORIES:Seminario,Taller
ATTACH;FMTTYPE=image/png:https://laretahila.org/wp-content/uploads/Seminario_VideojuegosyMujeres_US_Sevilla_LaRetahila.png
END:VEVENT
BEGIN:VEVENT
DTSTART;TZID=Europe/Madrid:20251028T090000
DTEND;TZID=Europe/Madrid:20251028T140000
DTSTAMP:20260419T174313
CREATED:20251017T114422Z
LAST-MODIFIED:20251017T114422Z
UID:4320-1761642000-1761660000@laretahila.org
SUMMARY:Seminario |“Formación sexoafectiva con perspectiva de género”
DESCRIPTION:La Asociación Páginas Violeta\, con la colaboración de la Universidad de Sevilla y el apoyo del IAM\, organiza el Seminario “Formación sexoafectiva con perspectiva de género”\nEl seminario aborda los derechos sexuales como parte esencial de la igualdad y la libertad personal\, promoviendo una educación sexoafectiva integral que fomente el pensamiento crítico\, el respeto mutuo y la prevención de las violencias machistas. \nEntre los temas que se tratarán destacan:💜 El impacto de la pornografía y la “pornificación” de la sexualidad en las relaciones afectivas.💜 La comunicación emocional y el autoconocimiento como herramientas de empoderamiento.💜 Las masculinidades y sus vínculos con el deseo\, el poder y el cuidado. \nParticiparán ponentes de referencia como Carmen Ruiz Repullo (Universidad de Granada)\, Natalia Díaz Bunster (sexóloga y especialista en comunicación emocional) y Eduardo García Rey (psicólogo experto en masculinidades). \n📅 Fechas: 28\, 29 y 30 de octubre de 2025🎓 Reconocimiento: 0\,5 créditos ECTS + certificado de asistencia💬 Inscripción gratuita📧 Más info: paginas.violeta@gmail.com
URL:https://laretahila.org/event/seminario-formacion-sexoafectiva-con-perspectiva-de-genero/
LOCATION:Facultad de Ciencias de la Educación\, C/ Pirotecnia 19\, 41013
CATEGORIES:Seminario
ATTACH;FMTTYPE=image/png:https://laretahila.org/wp-content/uploads/Seminario_SexoAfectivaperspectivadegenero_Sevilla_LaRetahila.png
END:VEVENT
END:VCALENDAR