BEGIN:VCALENDAR
VERSION:2.0
PRODID:-//la retahíla - ECPv6.15.20//NONSGML v1.0//EN
CALSCALE:GREGORIAN
METHOD:PUBLISH
X-ORIGINAL-URL:https://laretahila.org
X-WR-CALDESC:Eventos para la retahíla
REFRESH-INTERVAL;VALUE=DURATION:PT1H
X-Robots-Tag:noindex
X-PUBLISHED-TTL:PT1H
BEGIN:VTIMEZONE
TZID:Europe/Madrid
BEGIN:DAYLIGHT
TZOFFSETFROM:+0100
TZOFFSETTO:+0200
TZNAME:CEST
DTSTART:20240331T010000
END:DAYLIGHT
BEGIN:STANDARD
TZOFFSETFROM:+0200
TZOFFSETTO:+0100
TZNAME:CET
DTSTART:20241027T010000
END:STANDARD
BEGIN:DAYLIGHT
TZOFFSETFROM:+0100
TZOFFSETTO:+0200
TZNAME:CEST
DTSTART:20250330T010000
END:DAYLIGHT
BEGIN:STANDARD
TZOFFSETFROM:+0200
TZOFFSETTO:+0100
TZNAME:CET
DTSTART:20251026T010000
END:STANDARD
BEGIN:DAYLIGHT
TZOFFSETFROM:+0100
TZOFFSETTO:+0200
TZNAME:CEST
DTSTART:20260329T010000
END:DAYLIGHT
BEGIN:STANDARD
TZOFFSETFROM:+0200
TZOFFSETTO:+0100
TZNAME:CET
DTSTART:20261025T010000
END:STANDARD
END:VTIMEZONE
BEGIN:VEVENT
DTSTART;TZID=Europe/Madrid:20251118T160000
DTEND;TZID=Europe/Madrid:20251119T120000
DTSTAMP:20260419T160924
CREATED:20251117T093835Z
LAST-MODIFIED:20251117T095716Z
UID:4420-1763481600-1763553600@laretahila.org
SUMMARY:Seminario UPO| Prevención y actuación frente al acoso sexual y sexista en la universidad
DESCRIPTION:La Facultad de Derecho de la Universidad Pablo de Olavide organiza los días 18 y 19 de noviembre de 2025 el Seminario sobre prevención\, detección y actuación contra el acoso sexual y sexista\nSe trata de una cita académica clave para fortalecer la cultura de igualdad\, respeto y tolerancia cero ante cualquier forma de violencia machista en el ámbito universitario. \nEl encuentro —que tendrá lugar en los Salones de Grados de los Edificios 7 y 6— está dirigido por el profesor Manuel José García Rodríguez (Área de Derecho Penal y Criminología) y contará con la presencia de destacadas especialistas\, como Mónica Domínguez Serrano\, Delegada del Rector para la Igualdad de Género\, y Pastora García Álvarez\, Profesora Titular de Derecho Penal y Directora del Grupo de Investigación sobre la Criminalidad (SEJ678)\, entre otras ponentes. \nA lo largo de las dos jornadas se analizarán los retos actuales y las herramientas fundamentales para prevenir y responder al acoso sexual\, sexista y por razón de orientación o identidad de género\, en el marco del nuevo Protocolo de la UPO aprobado en 2025. El seminario también incorporará experiencias y reflexiones del alumnado de los grados de Derecho y Criminología\, promoviendo un diálogo crítico e interdisciplinar sobre esta forma de violencia. \nLa entrada es libre hasta completar el aforo.
URL:https://laretahila.org/event/seminario-upo-prevencion-y-actuacion-frente-al-acoso-sexual/
LOCATION:Universidad Pablo de Olavide\, Ctra. de Utrera 1\, Sevilla\, Sevilla\, 41013\, Spain
CATEGORIES:Seminario
ATTACH;FMTTYPE=image/png:https://laretahila.org/wp-content/uploads/Seminario_Prevenciondeteccionactuacion_UPO_Sevilla_LaRetahila.png
END:VEVENT
END:VCALENDAR