BEGIN:VCALENDAR
VERSION:2.0
PRODID:-//la retahíla - ECPv6.15.20//NONSGML v1.0//EN
CALSCALE:GREGORIAN
METHOD:PUBLISH
X-ORIGINAL-URL:https://laretahila.org
X-WR-CALDESC:Eventos para la retahíla
REFRESH-INTERVAL;VALUE=DURATION:PT1H
X-Robots-Tag:noindex
X-PUBLISHED-TTL:PT1H
BEGIN:VTIMEZONE
TZID:Europe/Madrid
BEGIN:DAYLIGHT
TZOFFSETFROM:+0100
TZOFFSETTO:+0200
TZNAME:CEST
DTSTART:20240331T010000
END:DAYLIGHT
BEGIN:STANDARD
TZOFFSETFROM:+0200
TZOFFSETTO:+0100
TZNAME:CET
DTSTART:20241027T010000
END:STANDARD
BEGIN:DAYLIGHT
TZOFFSETFROM:+0100
TZOFFSETTO:+0200
TZNAME:CEST
DTSTART:20250330T010000
END:DAYLIGHT
BEGIN:STANDARD
TZOFFSETFROM:+0200
TZOFFSETTO:+0100
TZNAME:CET
DTSTART:20251026T010000
END:STANDARD
BEGIN:DAYLIGHT
TZOFFSETFROM:+0100
TZOFFSETTO:+0200
TZNAME:CEST
DTSTART:20260329T010000
END:DAYLIGHT
BEGIN:STANDARD
TZOFFSETFROM:+0200
TZOFFSETTO:+0100
TZNAME:CET
DTSTART:20261025T010000
END:STANDARD
END:VTIMEZONE
BEGIN:VEVENT
DTSTART;TZID=Europe/Madrid:20251104T180000
DTEND;TZID=Europe/Madrid:20251104T200000
DTSTAMP:20260419T214051
CREATED:20251103T104444Z
LAST-MODIFIED:20251103T105124Z
UID:4380-1762279200-1762286400@laretahila.org
SUMMARY:Accionando\, un taller para hombres | Extrarradio
DESCRIPTION:La asociación Extrarradio organiza un taller dirigido a hombres que busca generar un espacio entre iguales para cuestionar la masculinidad hegemónica.\nLa asociación Extrarradio\, especializada en drogas\, género y sexualidad\, organiza un taller dirigido a hombres que busca generar un espacio entre iguales para cuestionar la masculinidad hegemónica y promover relaciones más igualitarias y corresponsables con las mujeres. \nEste encuentro propone un lugar seguro para el diálogo y la reflexión crítica sobre el papel de los hombres en la sociedad actual. \nNo se requiere formación previa\, solo interés\, apertura y disposición a hacerse preguntas. \n\nMás información:\n\nEste taller tendrá lugar en Dos Hermanas\, Sevilla\, aunque la ubicación exacta solo se facilitará a las personas inscritas.\nSe realizará una aportación simbólica de 5 € destinada al mantenimiento de la asociación anfitriona.\nLa información para la inscripción deberá enviarse al correo: extrarradiosocial@gmail.com
URL:https://laretahila.org/event/accionando-un-taller-para-hombres/
LOCATION:Dos Hermanas\, Sevilla\, Dos Hermanas\, Sevilla\, Spain
CATEGORIES:Charla,Taller
ATTACH;FMTTYPE=image/png:https://laretahila.org/wp-content/uploads/TallerHombres_Extrarradio_DosHermanas_LaRetahila.png
ORGANIZER;CN="Extrarradio":MAILTO:extrarradiosocial@gmail.com
END:VEVENT
END:VCALENDAR