BEGIN:VCALENDAR
VERSION:2.0
PRODID:-//la retahíla - ECPv6.15.20//NONSGML v1.0//EN
CALSCALE:GREGORIAN
METHOD:PUBLISH
X-WR-CALNAME:la retahíla
X-ORIGINAL-URL:https://laretahila.org
X-WR-CALDESC:Eventos para la retahíla
REFRESH-INTERVAL;VALUE=DURATION:PT1H
X-Robots-Tag:noindex
X-PUBLISHED-TTL:PT1H
BEGIN:VTIMEZONE
TZID:Europe/Madrid
BEGIN:DAYLIGHT
TZOFFSETFROM:+0100
TZOFFSETTO:+0200
TZNAME:CEST
DTSTART:20240331T010000
END:DAYLIGHT
BEGIN:STANDARD
TZOFFSETFROM:+0200
TZOFFSETTO:+0100
TZNAME:CET
DTSTART:20241027T010000
END:STANDARD
BEGIN:DAYLIGHT
TZOFFSETFROM:+0100
TZOFFSETTO:+0200
TZNAME:CEST
DTSTART:20250330T010000
END:DAYLIGHT
BEGIN:STANDARD
TZOFFSETFROM:+0200
TZOFFSETTO:+0100
TZNAME:CET
DTSTART:20251026T010000
END:STANDARD
BEGIN:DAYLIGHT
TZOFFSETFROM:+0100
TZOFFSETTO:+0200
TZNAME:CEST
DTSTART:20260329T010000
END:DAYLIGHT
BEGIN:STANDARD
TZOFFSETFROM:+0200
TZOFFSETTO:+0100
TZNAME:CET
DTSTART:20261025T010000
END:STANDARD
END:VTIMEZONE
BEGIN:VEVENT
DTSTART;VALUE=DATE:20250904
DTEND;VALUE=DATE:20250905
DTSTAMP:20260420T022220
CREATED:20250904T103547Z
LAST-MODIFIED:20251214T054416Z
UID:4659-1756944000-1757030399@laretahila.org
SUMMARY:Arteterapia para mujeres víctimas de VG
DESCRIPTION:La Comisión para la investigación de malos tratos a mujeres\, pone en marcha esta iniciativa que tiene como objetivo trabajar con las mujeres y sus hijos e hijas víctimas de violencia de género. \nNo hay fecha prevista\, pero informaremos más adelante. \nPara reservar la plaza o para más información: 656 560 111 | 954 563 343.
URL:https://laretahila.org/event/arteterapia-para-mujeres-victimas-de-vg/
CATEGORIES:Cuidados,salud,Taller
ATTACH;FMTTYPE=image/png:https://laretahila.org/wp-content/uploads/ArteterapiayVG_ComisionNAcionalOnline_Sevilla_LaRetahila.png
END:VEVENT
END:VCALENDAR