BEGIN:VCALENDAR
VERSION:2.0
PRODID:-//la retahíla - ECPv6.15.20//NONSGML v1.0//EN
CALSCALE:GREGORIAN
METHOD:PUBLISH
X-ORIGINAL-URL:https://laretahila.org
X-WR-CALDESC:Eventos para la retahíla
REFRESH-INTERVAL;VALUE=DURATION:PT1H
X-Robots-Tag:noindex
X-PUBLISHED-TTL:PT1H
BEGIN:VTIMEZONE
TZID:Europe/Madrid
BEGIN:DAYLIGHT
TZOFFSETFROM:+0100
TZOFFSETTO:+0200
TZNAME:CEST
DTSTART:20240331T010000
END:DAYLIGHT
BEGIN:STANDARD
TZOFFSETFROM:+0200
TZOFFSETTO:+0100
TZNAME:CET
DTSTART:20241027T010000
END:STANDARD
BEGIN:DAYLIGHT
TZOFFSETFROM:+0100
TZOFFSETTO:+0200
TZNAME:CEST
DTSTART:20250330T010000
END:DAYLIGHT
BEGIN:STANDARD
TZOFFSETFROM:+0200
TZOFFSETTO:+0100
TZNAME:CET
DTSTART:20251026T010000
END:STANDARD
BEGIN:DAYLIGHT
TZOFFSETFROM:+0100
TZOFFSETTO:+0200
TZNAME:CEST
DTSTART:20260329T010000
END:DAYLIGHT
BEGIN:STANDARD
TZOFFSETFROM:+0200
TZOFFSETTO:+0100
TZNAME:CET
DTSTART:20261025T010000
END:STANDARD
END:VTIMEZONE
BEGIN:VEVENT
DTSTART;TZID=Europe/Madrid:20250924T103000
DTEND;TZID=Europe/Madrid:20250924T120000
DTSTAMP:20260420T022547
CREATED:20250915T112706Z
LAST-MODIFIED:20251214T123328Z
UID:4679-1758709800-1758715200@laretahila.org
SUMMARY:Programas con enfoque de género y discapacidad | CERMI Andalucía
DESCRIPTION:Formación participativa para incorporar perspectiva de género y discapacidad en programas sociales.\nEl Comité de Entidades Representantes de Personas con Discapacidad en Andalucía (CERMI Andalucía) organiza el taller online “Planteando programas con enfoque de género y discapacidad”\, una actividad formativa que propone revisar y repensar cómo se planifican programas sociales para que integren adecuadamente tanto la perspectiva de género como la realidad de las personas con discapacidad. \nLa sesión se desarrolla de forma participativa y amena\, facilitando herramientas conceptuales y prácticas para profesionales\, activistas y personas interesadas en fortalecer la inclusión y la justicia social desde una mirada interseccional. Este enfoque es clave para visibilizar y abordar las múltiples barreras —estructurales\, culturales y organizativas— que enfrentan especialmente las mujeres con discapacidad en diferentes ámbitos de la vida.
URL:https://laretahila.org/event/programas-con-enfoque-de-genero-y-discapacidad-cermi-andalucia/
CATEGORIES:salud,Taller
ATTACH;FMTTYPE=image/png:https://laretahila.org/wp-content/uploads/Taller_CERMISevilla_Sevilla_LaRetahila.png
ORGANIZER;CN="CERMI":MAILTO:cermi.andalucia2@cermiandalucia.es.
END:VEVENT
END:VCALENDAR