BEGIN:VCALENDAR
VERSION:2.0
PRODID:-//la retahíla - ECPv6.15.20//NONSGML v1.0//EN
CALSCALE:GREGORIAN
METHOD:PUBLISH
X-WR-CALNAME:la retahíla
X-ORIGINAL-URL:https://laretahila.org
X-WR-CALDESC:Eventos para la retahíla
REFRESH-INTERVAL;VALUE=DURATION:PT1H
X-Robots-Tag:noindex
X-PUBLISHED-TTL:PT1H
BEGIN:VTIMEZONE
TZID:Europe/Madrid
BEGIN:DAYLIGHT
TZOFFSETFROM:+0100
TZOFFSETTO:+0200
TZNAME:CEST
DTSTART:20240331T010000
END:DAYLIGHT
BEGIN:STANDARD
TZOFFSETFROM:+0200
TZOFFSETTO:+0100
TZNAME:CET
DTSTART:20241027T010000
END:STANDARD
BEGIN:DAYLIGHT
TZOFFSETFROM:+0100
TZOFFSETTO:+0200
TZNAME:CEST
DTSTART:20250330T010000
END:DAYLIGHT
BEGIN:STANDARD
TZOFFSETFROM:+0200
TZOFFSETTO:+0100
TZNAME:CET
DTSTART:20251026T010000
END:STANDARD
BEGIN:DAYLIGHT
TZOFFSETFROM:+0100
TZOFFSETTO:+0200
TZNAME:CEST
DTSTART:20260329T010000
END:DAYLIGHT
BEGIN:STANDARD
TZOFFSETFROM:+0200
TZOFFSETTO:+0100
TZNAME:CET
DTSTART:20261025T010000
END:STANDARD
END:VTIMEZONE
BEGIN:VEVENT
DTSTART;TZID=Europe/Madrid:20250928T160000
DTEND;TZID=Europe/Madrid:20250928T200000
DTSTAMP:20260420T054442
CREATED:20250918T013954Z
LAST-MODIFIED:20251214T024537Z
UID:4638-1759075200-1759089600@laretahila.org
SUMMARY:Autocuidado para las que cuidan en Sevilla
DESCRIPTION:Un espacio colectivo para cuidar el cuerpo y prevenir lesiones en los trabajos de cuidados.\nLa actividad Autocuidado de las cuidadoras\, una iniciativa de las compañeras de la Asociación de trabajadoras y trabajadores del Hogar\, propone un espacio de aprendizaje y bienestar dirigido a mujeres que desarrollan trabajos de cuidados\, poniendo el foco en la importancia del ejercicio físico como herramienta de autocuidado y prevención de lesiones. \nA través de una sesión práctica\, accesible y pensada para todas\, se abordarán rutinas y dinámicas corporales que favorecen el bienestar físico y emocional en una profesión marcada por la sobrecarga y la exigencia constante.El encuentro se concibe como un tiempo para parar\, compartir y cuidar el cuerpo desde una mirada colectiva\, consciente y feminista. \n  \nRecomendación: traer ropa deportiva cómodaInscripción: plazas limitadas por aforo | WhatsApp: 641 83 43 04
URL:https://laretahila.org/event/autocuidado-para-las-que-cuidan-en-sevilla/
LOCATION:Casa Grande del Pumarejo\, Plaza del Pumarejo\, 3\, Sevilla\, Sevilla\, 41003\, España
CATEGORIES:Cuidados,salud,Taller
ATTACH;FMTTYPE=image/png:https://laretahila.org/wp-content/uploads/Autocuidadocuidadoras_AsocTrabajadorasdelHogarSevilla_Sevilla_LaRetahila.png
ORGANIZER;CN="Asociaci%C3%B3n de trabajadoras y trabajadores del hogar de Sevilla":MAILTO:empleadasdelhogarsevilla@gmail.com
END:VEVENT
END:VCALENDAR