BEGIN:VCALENDAR
VERSION:2.0
PRODID:-//la retahíla - ECPv6.15.20//NONSGML v1.0//EN
CALSCALE:GREGORIAN
METHOD:PUBLISH
X-WR-CALNAME:la retahíla
X-ORIGINAL-URL:https://laretahila.org
X-WR-CALDESC:Eventos para la retahíla
REFRESH-INTERVAL;VALUE=DURATION:PT1H
X-Robots-Tag:noindex
X-PUBLISHED-TTL:PT1H
BEGIN:VTIMEZONE
TZID:Europe/Madrid
BEGIN:DAYLIGHT
TZOFFSETFROM:+0100
TZOFFSETTO:+0200
TZNAME:CEST
DTSTART:20240331T010000
END:DAYLIGHT
BEGIN:STANDARD
TZOFFSETFROM:+0200
TZOFFSETTO:+0100
TZNAME:CET
DTSTART:20241027T010000
END:STANDARD
BEGIN:DAYLIGHT
TZOFFSETFROM:+0100
TZOFFSETTO:+0200
TZNAME:CEST
DTSTART:20250330T010000
END:DAYLIGHT
BEGIN:STANDARD
TZOFFSETFROM:+0200
TZOFFSETTO:+0100
TZNAME:CET
DTSTART:20251026T010000
END:STANDARD
BEGIN:DAYLIGHT
TZOFFSETFROM:+0100
TZOFFSETTO:+0200
TZNAME:CEST
DTSTART:20260329T010000
END:DAYLIGHT
BEGIN:STANDARD
TZOFFSETFROM:+0200
TZOFFSETTO:+0100
TZNAME:CET
DTSTART:20261025T010000
END:STANDARD
END:VTIMEZONE
BEGIN:VEVENT
DTSTART;TZID=Europe/Madrid:20251218T173000
DTEND;TZID=Europe/Madrid:20251218T193000
DTSTAMP:20260419T213622
CREATED:20251211T122055Z
LAST-MODIFIED:20251213T123320Z
UID:4560-1766079000-1766086200@laretahila.org
SUMMARY:Cuerpos visibles\, diversidad corporal y gordofobia | Adhara
DESCRIPTION:Cuerpos visibles\, un taller que propone un espacio seguro\, amoroso y colectivo para reflexionar sobre la diversidad corporal\nLa Fundación Adhara impulsa Cuerpos visibles\, un taller que propone un espacio seguro\, amoroso y colectivo para reflexionar sobre la diversidad corporal y cómo la gordofobia atraviesa nuestros cuerpos\, relaciones y comunidades\, especialmente dentro del colectivo LGTBIQ+. \nEl encuentro se celebra el 18 de diciembre\, de 17:30 a 19:30 horas\, en el Centro Cívico Hogar San Fernando\, y está concebido como un espacio para pensarnos\, escucharnos y transformar juntas/os/es la forma en que habitamos y miramos los cuerpos. A través del diálogo y el trabajo grupal\, el taller invita a identificar los estereotipos corporales\, desmontar discursos discriminatorios y fortalecer la autoestima\, el autocuidado y las redes de apoyo. \nLa actividad se enmarca dentro del proyecto La Voz de una Comunidad\, una iniciativa de la Fundación Adhara que cuenta con la colaboración de la actriz Manuela Alonso y Laura González\, psicóloga y sexóloga\, y con la financiación del Ayuntamiento de Sevilla.
URL:https://laretahila.org/event/cuerpos-visibles-diversidad-corporal-y-gordofobia-adhara/
LOCATION:Centro cívico Hogar San Fernando\, C/ Don Fadrique 59\, Sevilla\, 41009
CATEGORIES:Activismo,Encuentro,Taller
ATTACH;FMTTYPE=image/png:https://laretahila.org/wp-content/uploads/Cuerposvisibles_Adhara_LaRetahila.png
END:VEVENT
END:VCALENDAR